BEGIN:VCALENDAR
VERSION:2.0
PRODID:-//Plone.org//NONSGML plone.app.event//EN
X-WR-TIMEZONE:Europe/Rome
BEGIN:VEVENT
SUMMARY:Chiusura di Ferragosto
DTSTART;TZID=Europe/Rome;VALUE=DATE-TIME:20220808T081500
DTEND;TZID=Europe/Rome;VALUE=DATE-TIME:20220819T140000
DTSTAMP;VALUE=DATE-TIME:20260420T204046Z
UID:1f92b12b7ed74cd39d6062e3eec0614d@www.ucer.camcom.it
CREATED;VALUE=DATE-TIME:20220713T140004Z
DESCRIPTION:Gli Uffici Unioncamere ER chiudono due settimane
LAST-MODIFIED;VALUE=DATE-TIME:20220830T144111Z
URL:https://www.ucer.camcom.it/api/comunicazione-e-stampa/notizie/notizie-
 ed-eventi-2022/chiusura-di-ferragosto
END:VEVENT
BEGIN:VTIMEZONE
TZID:Europe/Rome
X-LIC-LOCATION:Europe/Rome
BEGIN:DAYLIGHT
DTSTART;VALUE=DATE-TIME:20220327T030000
TZNAME:CEST
TZOFFSETFROM:+0100
TZOFFSETTO:+0200
END:DAYLIGHT
END:VTIMEZONE
END:VCALENDAR
