BEGIN:VCALENDAR
VERSION:2.0
PRODID:-//Plone.org//NONSGML plone.app.event//EN
X-WR-TIMEZONE:Europe/Rome
BEGIN:VEVENT
SUMMARY:Evento conclusivo di presentazione delle attività e dei risultati
  del progetto sostenibilità ambientale
DTSTART;TZID=Europe/Rome;VALUE=DATE-TIME:20221020T100000
DTEND;TZID=Europe/Rome;VALUE=DATE-TIME:20221020T123000
DTSTAMP;VALUE=DATE-TIME:20260421T144138Z
UID:c3bdba1d1ace4c9e958a12bc44bbfd53@www.ucer.camcom.it
CATEGORIES:sostenibilità ambientale,sottoprodotti
CREATED;VALUE=DATE-TIME:20221006T101626Z
DESCRIPTION:Focus sottoprodotti: assistenze e testimonianze aziendali
LAST-MODIFIED;VALUE=DATE-TIME:20221020T082019Z
URL:https://www.ucer.camcom.it/api/comunicazione-e-stampa/notizie/notizie-
 ed-eventi-2022/copy_of_sottoprodotti
END:VEVENT
BEGIN:VTIMEZONE
TZID:Europe/Rome
X-LIC-LOCATION:Europe/Rome
BEGIN:DAYLIGHT
DTSTART;VALUE=DATE-TIME:20220327T030000
TZNAME:CEST
TZOFFSETFROM:+0100
TZOFFSETTO:+0200
END:DAYLIGHT
END:VTIMEZONE
END:VCALENDAR
