BEGIN:VCALENDAR
VERSION:2.0
PRODID:-//Plone.org//NONSGML plone.app.event//EN
X-WR-TIMEZONE:Europe/Rome
BEGIN:VEVENT
SUMMARY:Nuova veste grafica per il sito ucer
DTSTART;VALUE=DATE:20220704
DTEND;VALUE=DATE:20220705
DTSTAMP;VALUE=DATE-TIME:20260421T162137Z
UID:e51d694e8cc84ba8907951c804b495f3@www.ucer.camcom.it
CATEGORIES:sito,web,plone
CREATED;VALUE=DATE-TIME:20220623T090601Z
DESCRIPTION:Go live del nuovo sito di Unioncamere Emilia-Romagna.
LAST-MODIFIED;VALUE=DATE-TIME:20220831T104916Z
URL:https://www.ucer.camcom.it/api/comunicazione-e-stampa/notizie/notizie-
 ed-eventi-2022/nuova-veste-grafica-per-il-sito-ucer
END:VEVENT
END:VCALENDAR
