BEGIN:VCALENDAR
VERSION:2.0
PRODID:-//Plone.org//NONSGML plone.app.event//EN
X-WR-TIMEZONE:Europe/Rome
BEGIN:VEVENT
SUMMARY:Tutor per l'orientamento e la prevenzione: un PCTO per l'innovazio
 ne sociale e le professioni di aiuto
DTSTART;TZID=Europe/Rome;VALUE=DATE-TIME:20221124T143000
DTEND;TZID=Europe/Rome;VALUE=DATE-TIME:20221124T163000
DTSTAMP;VALUE=DATE-TIME:20260420T205037Z
UID:c2e04b8c66fb4fac8c1b16cd61427a3e@www.ucer.camcom.it
CATEGORIES:Notizie 2022,orientamento,innovazione,sociale,tutor
CREATED;VALUE=DATE-TIME:20221102T131027Z
DESCRIPTION:Evento su piattaforma zoom giovedì 24 novembre 2022  
LAST-MODIFIED;VALUE=DATE-TIME:20221125T082143Z
URL:https://www.ucer.camcom.it/api/comunicazione-e-stampa/notizie/notizie-
 ed-eventi-2022/tutor-per-lorientamento-e-la-prevenzione-un-pcto-per-linnov
 azione-sociale-e-le-professioni-di-aiuto
END:VEVENT
BEGIN:VTIMEZONE
TZID:Europe/Rome
X-LIC-LOCATION:Europe/Rome
BEGIN:STANDARD
DTSTART;VALUE=DATE-TIME:20221030T020000
TZNAME:CET
TZOFFSETFROM:+0200
TZOFFSETTO:+0100
END:STANDARD
END:VTIMEZONE
END:VCALENDAR
