BEGIN:VCALENDAR
VERSION:2.0
PRODID:-//Plone.org//NONSGML plone.app.event//EN
X-WR-TIMEZONE:Europe/Rome
BEGIN:VEVENT
SUMMARY:Avviso per la raccolta di proposte per l'affidamento diretto ai se
 nsi dell’art. 50 comma 1 lett. b) del D. Lgs. 36/2023 per la realizzazio
 ne di video storytelling di storie imprenditoriali per la rete degli Sport
 elli Nuove Imprese delle Camere di commercio dell'Emilia - Romagna
DTSTART;TZID=Europe/Rome;VALUE=DATE-TIME:20230731T100000
DTEND;TZID=Europe/Rome;VALUE=DATE-TIME:20230908T120000
DTSTAMP;VALUE=DATE-TIME:20260420T234357Z
UID:5e965b2e62784ebd969dc5c13d425e66@www.ucer.camcom.it
CATEGORIES:Notizie 2023,avviso,story,telling
CREATED;VALUE=DATE-TIME:20230731T070638Z
DESCRIPTION:SCADUTO
LAST-MODIFIED;VALUE=DATE-TIME:20230911T072646Z
URL:https://www.ucer.camcom.it/api/comunicazione-e-stampa/notizie/notizie-
 ed-eventi-2023/avviso-per-la-raccolta-di-proposte-per-laffidamento-diretto
 -ai-sensi-dell2019art-50-comma-1-lett-b-del-d-lgs-36-2023-per-la-realizzaz
 ione-di-video-storytelling-di-storie-imprenditoriali-per-la-rete-degli-spo
 rtelli-nuove-imprese-delle-camere-di-commercio
END:VEVENT
BEGIN:VTIMEZONE
TZID:Europe/Rome
X-LIC-LOCATION:Europe/Rome
BEGIN:DAYLIGHT
DTSTART;VALUE=DATE-TIME:20230326T030000
TZNAME:CEST
TZOFFSETFROM:+0100
TZOFFSETTO:+0200
END:DAYLIGHT
END:VTIMEZONE
END:VCALENDAR
