BEGIN:VCALENDAR
VERSION:2.0
PRODID:-//Plone.org//NONSGML plone.app.event//EN
X-WR-TIMEZONE:Europe/Rome
BEGIN:VEVENT
SUMMARY:Bando Digital Export – Anno 2024-25: incontro con i beneficiari 
 il 9 luglio
DTSTART;TZID=Europe/Rome;VALUE=DATE-TIME:20250709T103000
DTEND;TZID=Europe/Rome;VALUE=DATE-TIME:20250709T130000
DTSTAMP;VALUE=DATE-TIME:20260422T102735Z
UID:520246ce08fc4b2591b6be7bb1e8f28b@www.ucer.camcom.it
CATEGORIES:Notizie 2025,bandi
CREATED;VALUE=DATE-TIME:20250703T082429Z
DESCRIPTION:Webinar alle ore 10:30  - Pubblicate le slide di presentazione
  
LAST-MODIFIED;VALUE=DATE-TIME:20250718T090047Z
URL:https://www.ucer.camcom.it/api/comunicazione-e-stampa/notizie/notizie-
 ed-eventi-2025/bando-digital-export-2013-anno-2024-25-incontro-con-i-benef
 iciari-il-9-luglio
END:VEVENT
BEGIN:VTIMEZONE
TZID:Europe/Rome
X-LIC-LOCATION:Europe/Rome
BEGIN:DAYLIGHT
DTSTART;VALUE=DATE-TIME:20250330T030000
TZNAME:CEST
TZOFFSETFROM:+0100
TZOFFSETTO:+0200
END:DAYLIGHT
END:VTIMEZONE
END:VCALENDAR
