BEGIN:VCALENDAR
VERSION:2.0
PRODID:-//Plone.org//NONSGML plone.app.event//EN
X-WR-TIMEZONE:Europe/Rome
BEGIN:VEVENT
SUMMARY:SAVE THE DATE: 17 luglio La mobilità dei talenti
DTSTART;TZID=Europe/Rome;VALUE=DATE-TIME:20250717T120000
DTEND;TZID=Europe/Rome;VALUE=DATE-TIME:20250717T130000
DTSTAMP;VALUE=DATE-TIME:20260421T194452Z
UID:b9ea7c9206f94bffb31e68f0fbdfadec@www.ucer.camcom.it
CATEGORIES:ERASMUS,Notizie 2025
CREATED;VALUE=DATE-TIME:20250604T093908Z
DESCRIPTION:Iscrizioni al webinar entro il 16 luglio. Disponibili le slide
  di presentazione
LAST-MODIFIED;VALUE=DATE-TIME:20250718T082728Z
URL:https://www.ucer.camcom.it/api/comunicazione-e-stampa/notizie/notizie-
 ed-eventi-2025/save-the-date-17-luglio-unioncamere-emilia-romagna
END:VEVENT
BEGIN:VTIMEZONE
TZID:Europe/Rome
X-LIC-LOCATION:Europe/Rome
BEGIN:DAYLIGHT
DTSTART;VALUE=DATE-TIME:20250330T030000
TZNAME:CEST
TZOFFSETFROM:+0100
TZOFFSETTO:+0200
END:DAYLIGHT
END:VTIMEZONE
END:VCALENDAR
