BEGIN:VCALENDAR
VERSION:2.0
PRODID:-//Plone.org//NONSGML plone.app.event//EN
X-WR-TIMEZONE:Europe/Rome
BEGIN:VEVENT
SUMMARY:Camerun: terra di opportunità
DTSTART;TZID=Europe/Rome;VALUE=DATE-TIME:20221124T150000
DTEND;TZID=Europe/Rome;VALUE=DATE-TIME:20221124T180000
DTSTAMP;VALUE=DATE-TIME:20260424T162013Z
UID:bae5c9faa7d24bbf97b9088287bb3af8@www.ucer.camcom.it
CREATED;VALUE=DATE-TIME:20221115T080148Z
DESCRIPTION:Unioncamere Emilia-Romagna ospiterà la terza edizione del For
 um economico. 
LAST-MODIFIED;VALUE=DATE-TIME:20221125T075132Z
URL:https://www.ucer.camcom.it/api/internazionalizzazione-delle-imprese/ne
 ws/notizie-2022/camerun-terra-di-opportunita
END:VEVENT
BEGIN:VTIMEZONE
TZID:Europe/Rome
X-LIC-LOCATION:Europe/Rome
BEGIN:STANDARD
DTSTART;VALUE=DATE-TIME:20221030T020000
TZNAME:CET
TZOFFSETFROM:+0200
TZOFFSETTO:+0100
END:STANDARD
END:VTIMEZONE
END:VCALENDAR
